BEGIN:VCALENDAR
VERSION:2.0
PRODID:-//The City of Woodland Hills, KY - ECPv6.15.20//NONSGML v1.0//EN
CALSCALE:GREGORIAN
METHOD:PUBLISH
X-ORIGINAL-URL:https://woodlandhillsky.com
X-WR-CALDESC:Events for The City of Woodland Hills, KY
REFRESH-INTERVAL;VALUE=DURATION:PT1H
X-Robots-Tag:noindex
X-PUBLISHED-TTL:PT1H
BEGIN:VTIMEZONE
TZID:America/New_York
BEGIN:DAYLIGHT
TZOFFSETFROM:-0500
TZOFFSETTO:-0400
TZNAME:EDT
DTSTART:20220313T070000
END:DAYLIGHT
BEGIN:STANDARD
TZOFFSETFROM:-0400
TZOFFSETTO:-0500
TZNAME:EST
DTSTART:20221106T060000
END:STANDARD
BEGIN:DAYLIGHT
TZOFFSETFROM:-0500
TZOFFSETTO:-0400
TZNAME:EDT
DTSTART:20230312T070000
END:DAYLIGHT
BEGIN:STANDARD
TZOFFSETFROM:-0400
TZOFFSETTO:-0500
TZNAME:EST
DTSTART:20231105T060000
END:STANDARD
BEGIN:DAYLIGHT
TZOFFSETFROM:-0500
TZOFFSETTO:-0400
TZNAME:EDT
DTSTART:20240310T070000
END:DAYLIGHT
BEGIN:STANDARD
TZOFFSETFROM:-0400
TZOFFSETTO:-0500
TZNAME:EST
DTSTART:20241103T060000
END:STANDARD
BEGIN:DAYLIGHT
TZOFFSETFROM:-0500
TZOFFSETTO:-0400
TZNAME:EDT
DTSTART:20250309T070000
END:DAYLIGHT
BEGIN:STANDARD
TZOFFSETFROM:-0400
TZOFFSETTO:-0500
TZNAME:EST
DTSTART:20251102T060000
END:STANDARD
BEGIN:DAYLIGHT
TZOFFSETFROM:-0500
TZOFFSETTO:-0400
TZNAME:EDT
DTSTART:20260308T070000
END:DAYLIGHT
BEGIN:STANDARD
TZOFFSETFROM:-0400
TZOFFSETTO:-0500
TZNAME:EST
DTSTART:20261101T060000
END:STANDARD
END:VTIMEZONE
BEGIN:VEVENT
DTSTART;TZID=America/New_York:20251206T173000
DTEND;TZID=America/New_York:20251206T193000
DTSTAMP:20260419T085626
CREATED:20250922T152615Z
LAST-MODIFIED:20250922T153819Z
UID:3918-1765042200-1765049400@woodlandhillsky.com
SUMMARY:2025 Winterfest
DESCRIPTION:Please join us for the Annual City of Woodland Hills Winterfest! Hardy Brinly Park will be transformed into a Winter Wonderland for all ages! Once again we will host Santa and the Grinch for photos\, S’mores and Hot Cocoa refreshments\, seasonal coloring\, and a train ride around the park! We will also be showing The Grinch movie on a projector. \nThis event promises to transform our park into a shimmering night of twinkling lights and joyful celebrations where we can come together as a community to celebrate the season. Winterfest will offer unforgettable experiences for everyone seeking to embrace the magic of winter. \nIf you would like to assist with setting up/decorating the park and/or helping to clean up afterwards\, please reach out to Commissioner Kristen Hedden at whkyhedden@gmail.com. \nThank you to all of our sponsors and volunteers that help to make this fantastic event possible! \n  
URL:https://woodlandhillsky.com/event/2025-winter-fest/
LOCATION:Hardy Brinly Park\, 12200 Ridge Crest Dr\, Louisville\, KY\, 40243\, United States
ORGANIZER;CN="Kristen Hedden%2C Commissioner":MAILTO:whkyhedden@gmail.com
END:VEVENT
BEGIN:VEVENT
DTSTART;TZID=America/New_York:20231202T173000
DTEND;TZID=America/New_York:20231202T203000
DTSTAMP:20260419T085626
CREATED:20231129T025507Z
LAST-MODIFIED:20231129T025507Z
UID:1021-1701538200-1701549000@woodlandhillsky.com
SUMMARY:Winterfest
DESCRIPTION:Join us at Hardy Brinly Park for our annual Winterfest! Lots of wonderful\, family friendly activities are planned for the young and young at heart. Come stroll along the candle lit paths and enjoy a cup of hot cocoa\, roast marshmallows and take home a sweet treat. Visit with Santa\, The Grinch and your neighbor!
URL:https://woodlandhillsky.com/event/winterfest/
LOCATION:Hardy Brinly Park\, 12200 Ridge Crest Dr\, Louisville\, KY\, 40243\, United States
END:VEVENT
BEGIN:VEVENT
DTSTART;TZID=America/New_York:20230826T170000
DTEND;TZID=America/New_York:20230826T190000
DTSTAMP:20260419T085626
CREATED:20230725T025702Z
LAST-MODIFIED:20230725T025702Z
UID:821-1693069200-1693076400@woodlandhillsky.com
SUMMARY:Food Truck Friday - August
DESCRIPTION:Come join us for the August Food Truck Friday! Event details coming soon.
URL:https://woodlandhillsky.com/event/food-truck-friday-august/
LOCATION:Hardy Brinly Park\, 12200 Ridge Crest Dr\, Louisville\, KY\, 40243\, United States
CATEGORIES:Food Truck Friday
ORGANIZER;CN="Kristen Hedden%2C Commissioner":MAILTO:whkyhedden@gmail.com
END:VEVENT
BEGIN:VEVENT
DTSTART;TZID=America/New_York:20230822T190000
DTEND;TZID=America/New_York:20230822T203000
DTSTAMP:20260419T085626
CREATED:20230822T222917Z
LAST-MODIFIED:20230822T222917Z
UID:876-1692730800-1692736200@woodlandhillsky.com
SUMMARY:Woodland Hills Board of Commissioners Monthly Meeting
DESCRIPTION:Join Meeting on Zoom or in person
URL:https://woodlandhillsky.com/event/woodland-hills-board-of-commissioners-monthly-meeting-3/
LOCATION:First Baptist Church\, Middletown KY\, 11721 Main St\, Middletown\, KY\, 40243\, United States
CATEGORIES:Monthly Board Meetings
ORGANIZER;CN="Sean Killeen%2C Mayor":MAILTO:whkymayor@gmail.com
END:VEVENT
BEGIN:VEVENT
DTSTART;TZID=America/New_York:20230818T170000
DTEND;TZID=America/New_York:20230818T190000
DTSTAMP:20260419T085626
CREATED:20230818T165003Z
LAST-MODIFIED:20230818T165003Z
UID:870-1692378000-1692385200@woodlandhillsky.com
SUMMARY:Farmer's Market Friday
DESCRIPTION:Weekly Farmer’s Market at Hardy Brinly Park in Woodland Hills. Buy fresh foods and more\, from 5-7pm. \nThis week: Black Paw Farms! Check out their website or Facebook page to follow for more good stuff!
URL:https://woodlandhillsky.com/event/farmers-market-friday-2/
LOCATION:Hardy Brinly Park\, 12200 Ridge Crest Dr\, Louisville\, KY\, 40243\, United States
CATEGORIES:Farmer's Markets
ORGANIZER;CN="Kristen Hedden%2C Commissioner":MAILTO:whkyhedden@gmail.com
END:VEVENT
BEGIN:VEVENT
DTSTART;TZID=America/New_York:20230728T170000
DTEND;TZID=America/New_York:20230728T190000
DTSTAMP:20260419T085626
CREATED:20230728T201625Z
LAST-MODIFIED:20230728T202028Z
UID:837-1690563600-1690570800@woodlandhillsky.com
SUMMARY:Farmer's Market Friday
DESCRIPTION:Weekly Farmer’s Market at Hardy Brinly Park in Woodland Hills. Buy fresh foods and more\, from 5-7pm. \nThis week: Black Paw Farms! Check out their website or Facebook page to follow for more good stuff!
URL:https://woodlandhillsky.com/event/farmers-market-friday/
LOCATION:Hardy Brinly Park\, 12200 Ridge Crest Dr\, Louisville\, KY\, 40243\, United States
CATEGORIES:Farmer's Markets
ORGANIZER;CN="Kristen Hedden%2C Commissioner":MAILTO:whkyhedden@gmail.com
END:VEVENT
BEGIN:VEVENT
DTSTART;TZID=America/New_York:20230728T170000
DTEND;TZID=America/New_York:20230728T190000
DTSTAMP:20260419T085626
CREATED:20230725T024811Z
LAST-MODIFIED:20230728T201944Z
UID:813-1690563600-1690570800@woodlandhillsky.com
SUMMARY:Food Truck Friday - Red Top Gourmet Hot Dogs
DESCRIPTION:Click here for menu! \nSkip the hassle of Friday dinner and come to Hardy Brinly Park instead\, to treat yourself to some gourmet hot dogs! Join us from 5-7 pm at 12200 Ridge Crest Dr and give yourself and your family a fun break\, while meeting neighbors. See you there!
URL:https://woodlandhillsky.com/event/food-truck-friday-red-top-gourmet-hot-dogs/
LOCATION:Hardy Brinly Park\, 12200 Ridge Crest Dr\, Louisville\, KY\, 40243\, United States
CATEGORIES:Food Truck Friday
ORGANIZER;CN="Kristen Hedden%2C Commissioner":MAILTO:whkyhedden@gmail.com
END:VEVENT
BEGIN:VEVENT
DTSTART;TZID=America/New_York:20230627T080000
DTEND;TZID=America/New_York:20230627T170000
DTSTAMP:20260419T085626
CREATED:20230630T090030Z
LAST-MODIFIED:20230725T025427Z
UID:778-1687852800-1687885200@woodlandhillsky.com
SUMMARY:Food Truck Friday
DESCRIPTION:June 30th Bellisimo
URL:https://woodlandhillsky.com/event/food-truck-friday-2/
CATEGORIES:Food Truck Friday
END:VEVENT
BEGIN:VEVENT
DTSTART;TZID=America/New_York:20230624T183000
DTEND;TZID=America/New_York:20230624T213000
DTSTAMP:20260419T085626
CREATED:20230424T031748Z
LAST-MODIFIED:20230725T025500Z
UID:705-1687631400-1687642200@woodlandhillsky.com
SUMMARY:Woodland Hills Summerfest
DESCRIPTION:The Sam Gyllenhaal Band is coming back to Woodland Hills for the 2023 Summerfest. Bring a chair and enjoy a free event that is perfect for the whole family. This year will offer far more booths that ever before\, including food\, crafts\, animals\, and much more. Don’t miss it!
URL:https://woodlandhillsky.com/event/woodland-hills-summerfest/
LOCATION:Hardy Brinly Park\, 12200 Ridge Crest Dr\, Louisville\, KY\, 40243\, United States
CATEGORIES:Annual Events
ORGANIZER;CN="Sean Killeen%2C Mayor":MAILTO:whkymayor@gmail.com
END:VEVENT
BEGIN:VEVENT
DTSTART;TZID=America/New_York:20230523T190000
DTEND;TZID=America/New_York:20230523T210000
DTSTAMP:20260419T085626
CREATED:20230422T175148Z
LAST-MODIFIED:20230422T175148Z
UID:667-1684868400-1684875600@woodlandhillsky.com
SUMMARY:Woodland Hills Board of Commissioners Monthly Meeting
DESCRIPTION:Join us for the City of Woodland Hills Board of Commissioners May Meeting. We will discuss city business\, including budget and tax ordinances\, ongoing projects\, events and other matters. This is open to the public. Please contact us ahead of time with any questions\, or to join remotely.
URL:https://woodlandhillsky.com/event/woodland-hills-board-of-commissioners-monthly-meeting-2/
LOCATION:First Baptist Church\, Middletown KY\, 11721 Main St\, Middletown\, KY\, 40243\, United States
ORGANIZER;CN="Sean Killeen%2C Mayor":MAILTO:whkymayor@gmail.com
END:VEVENT
BEGIN:VEVENT
DTSTART;TZID=America/New_York:20230512T170000
DTEND;TZID=America/New_York:20230512T190000
DTSTAMP:20260419T085626
CREATED:20230424T031431Z
LAST-MODIFIED:20230424T031431Z
UID:678-1683910800-1683918000@woodlandhillsky.com
SUMMARY:Food Truck Friday
DESCRIPTION:Food Truck Friday is back! Join us in Hardy Brinly Park from 5-7 to get your food truck fix!
URL:https://woodlandhillsky.com/event/food-truck-friday/
LOCATION:Hardy Brinly Park\, 12200 Ridge Crest Dr\, Louisville\, KY\, 40243\, United States
ORGANIZER;CN="Kristen Hedden%2C Commissioner":MAILTO:whkyhedden@gmail.com
END:VEVENT
BEGIN:VEVENT
DTSTART;TZID=America/New_York:20230512T080000
DTEND;TZID=America/New_York:20230513T140000
DTSTAMP:20260419T085626
CREATED:20230422T180737Z
LAST-MODIFIED:20230424T024631Z
UID:671-1683878400-1683986400@woodlandhillsky.com
SUMMARY:Woodland Hills Yard Sale
DESCRIPTION:The early bird gets the bargain! This is the annual\, city-wide yard sale for Woodland Hills\, KY. Join us Friday and Saturday morning to find great deals\, or set up your own if you are a Woodland Hills resident.
URL:https://woodlandhillsky.com/event/woodland-hills-yard-sale/
LOCATION:Woodland Hills\, KY\, Woodland Hills\, KY\, 40243\, United States
ORGANIZER;CN="Kristen Hedden%2C Commissioner":MAILTO:whkyhedden@gmail.com
END:VEVENT
BEGIN:VEVENT
DTSTART;TZID=America/New_York:20230425T190000
DTEND;TZID=America/New_York:20230425T210000
DTSTAMP:20260419T085626
CREATED:20230422T174140Z
LAST-MODIFIED:20230422T174140Z
UID:661-1682449200-1682456400@woodlandhillsky.com
SUMMARY:Woodland Hills Board of Commissioners Monthly Meeting
DESCRIPTION:Join us for the City of Woodland Hills Board of Commissioners April Meeting. We will discuss city business\, including budget and tax ordinances\, ongoing projects\, and other matters. This is open to the public. Please contact us ahead of time with any questions\, or to join remotely.
URL:https://woodlandhillsky.com/event/woodland-hills-board-of-commissioners-monthly-meeting/
LOCATION:First Baptist Church\, Middletown KY\, 11721 Main St\, Middletown\, KY\, 40243\, United States
ORGANIZER;CN="Sean Killeen%2C Mayor":MAILTO:whkymayor@gmail.com
END:VEVENT
BEGIN:VEVENT
DTSTART;TZID=America/New_York:20230422T093000
DTEND;TZID=America/New_York:20230422T113000
DTSTAMP:20260419T085626
CREATED:20230422T173156Z
LAST-MODIFIED:20230422T175431Z
UID:656-1682155800-1682163000@woodlandhillsky.com
SUMMARY:Sally Tilford Day
DESCRIPTION:Join us for Sally Tilford Day in Hardy Brinly Park. Coffee\, donuts\, and hot chocolate will be served for free during this event\, commemorating Sally Tilford’s 18 years of service to the City of Woodland Hills. Come join us and thank Sally for her incredible contributions to our city!
URL:https://woodlandhillsky.com/event/sally-tilford-day/
LOCATION:Hardy Brinly Park\, 12200 Ridge Crest Dr\, Louisville\, KY\, 40243\, United States
END:VEVENT
END:VCALENDAR